BEGIN:VCALENDAR
VERSION:2.0
CALSCALE:GREGORIAN
PRODID:-//WordPress//RSVPMaker//EN
METHOD:REQUEST
BEGIN:VEVENT
DTSTAMP:20260424T154112Z
UID:5807A685D1A9AB3B599035BC566CE2B9@rsvpmaker.com
SEQUENCE:0
STATUS:CONFIRMED
DTSTART:20170420T160000Z
DTEND:20170420T170000Z
LOCATION:See\: https\://www.uupsbu.org/rsvpmaker/pre-retirement-worksh
 op-2017-04-20/
SUMMARY:Pre-Retirement Workshop
DESCRIPTION:Event info\: https\://www.uupsbu.org/rsvpmaker/pre-retirem
 ent-workshop-2017-04-20/
END:VEVENT
END:VCALENDAR