BEGIN:VCALENDAR
VERSION:2.0
CALSCALE:GREGORIAN
PRODID:-//WordPress//RSVPMaker//EN
METHOD:REQUEST
BEGIN:VEVENT
DTSTAMP:20260424T064139Z
UID:3CEF96DCC9B8035D23F69E30BB19218A@rsvpmaker.com
SEQUENCE:0
STATUS:CONFIRMED
DTSTART:20171024T160000Z
DTEND:20171024T170000Z
LOCATION:See\: https\://www.uupsbu.org/rsvpmaker/pre-retirement-worksh
 op-2017-10-24/
SUMMARY:Pre-Retirement Workshop
DESCRIPTION:Event info\: https\://www.uupsbu.org/rsvpmaker/pre-retirem
 ent-workshop-2017-10-24/
END:VEVENT
END:VCALENDAR