BEGIN:VCALENDAR
VERSION:2.0
CALSCALE:GREGORIAN
PRODID:-//WordPress//RSVPMaker//EN
METHOD:REQUEST
BEGIN:VEVENT
DTSTAMP:20260425T205145Z
UID:BB6B07F0FD4AFE38C61F232BBB693FD7@rsvpmaker.com
SEQUENCE:0
STATUS:CONFIRMED
DTSTART:20231113T170000Z
DTEND:20231113T180000Z
LOCATION:See\: https\://www.uupsbu.org/rsvpmaker/pre-retirement-worksh
 op-3/
SUMMARY:Pre-Retirement Workshop
DESCRIPTION:Event info\: https\://www.uupsbu.org/rsvpmaker/pre-retirem
 ent-workshop-3/
END:VEVENT
END:VCALENDAR