BEGIN:VCALENDAR
VERSION:2.0
CALSCALE:GREGORIAN
PRODID:-//WordPress//RSVPMaker//EN
METHOD:REQUEST
BEGIN:VEVENT
DTSTAMP:20260425T191631Z
UID:7C792A8279211DECE3B4DF04719C818A@rsvpmaker.com
SEQUENCE:0
STATUS:CONFIRMED
DTSTART:20231115T170000Z
DTEND:20231115T180000Z
LOCATION:See\: https\://www.uupsbu.org/rsvpmaker/pre-retirement-worksh
 op-5/
SUMMARY:Pre-Retirement Workshop
DESCRIPTION:Event info\: https\://www.uupsbu.org/rsvpmaker/pre-retirem
 ent-workshop-5/
END:VEVENT
END:VCALENDAR