BEGIN:VCALENDAR
VERSION:2.0
CALSCALE:GREGORIAN
PRODID:-//WordPress//RSVPMaker//EN
METHOD:REQUEST
BEGIN:VEVENT
DTSTAMP:20260425T191630Z
UID:3E883840FEE4384DD3D2AFEA5E822517@rsvpmaker.com
SEQUENCE:0
STATUS:CONFIRMED
DTSTART:20231116T000000Z
DTEND:20231116T010000Z
LOCATION:See\: https\://www.uupsbu.org/rsvpmaker/pre-retirement-worksh
 op-6/
SUMMARY:Pre-Retirement Workshop
DESCRIPTION:Event info\: https\://www.uupsbu.org/rsvpmaker/pre-retirem
 ent-workshop-6/
END:VEVENT
END:VCALENDAR