BEGIN:VCALENDAR
VERSION:2.0
CALSCALE:GREGORIAN
PRODID:-//WordPress//RSVPMaker//EN
METHOD:REQUEST
BEGIN:VEVENT
DTSTAMP:20260425T205446Z
UID:62CE4772ADC0FBEAE29391FC0E22509C@rsvpmaker.com
SEQUENCE:0
STATUS:CONFIRMED
DTSTART:20231025T160000Z
DTEND:20231025T170000Z
LOCATION:See\: https\://www.uupsbu.org/rsvpmaker/professional-council-
 meeting-19/
SUMMARY:Professional Council Meeting (hybrid)
DESCRIPTION:Event info\: https\://www.uupsbu.org/rsvpmaker/professiona
 l-council-meeting-19/
END:VEVENT
END:VCALENDAR