BEGIN:VCALENDAR
VERSION:2.0
CALSCALE:GREGORIAN
PRODID:-//WordPress//RSVPMaker//EN
METHOD:REQUEST
BEGIN:VEVENT
DTSTAMP:20260425T140910Z
UID:2EA19E760AEEEEEB813A2406D0D31A25@rsvpmaker.com
SEQUENCE:0
STATUS:CONFIRMED
DTSTART:20240318T160000Z
DTEND:20240318T170000Z
LOCATION:See\: https\://www.uupsbu.org/rsvpmaker/professional-council-
 meeting-20/
SUMMARY:Professional Council Meeting
DESCRIPTION:Event info\: https\://www.uupsbu.org/rsvpmaker/professiona
 l-council-meeting-20/
END:VEVENT
END:VCALENDAR