BEGIN:VCALENDAR
VERSION:2.0
CALSCALE:GREGORIAN
PRODID:-//WordPress//RSVPMaker//EN
METHOD:REQUEST
BEGIN:VEVENT
DTSTAMP:20260424T080554Z
UID:BAC4CBB6173335E862A1B3DF635EE3BA@rsvpmaker.com
SEQUENCE:0
STATUS:CONFIRMED
DTSTART:20250929T160000Z
DTEND:20250929T170000Z
LOCATION:See\: https\://www.uupsbu.org/rsvpmaker/professional-council-
 meeting-22/
SUMMARY:Professional Council meeting
DESCRIPTION:Event info\: https\://www.uupsbu.org/rsvpmaker/professiona
 l-council-meeting-22/
END:VEVENT
END:VCALENDAR