BEGIN:VCALENDAR
VERSION:2.0
CALSCALE:GREGORIAN
PRODID:-//WordPress//RSVPMaker//EN
METHOD:REQUEST
BEGIN:VEVENT
DTSTAMP:20260424T231022Z
UID:2DEA61EED4BCEEC564A00115C4D21334@rsvpmaker.com
SEQUENCE:0
STATUS:CONFIRMED
DTSTART:20161103T160000Z
DTEND:20161103T170000Z
LOCATION:See\: https\://www.uupsbu.org/rsvpmaker/professional-forum-20
 16-11-03/
SUMMARY:Professional Forum
DESCRIPTION:Event info\: https\://www.uupsbu.org/rsvpmaker/professiona
 l-forum-2016-11-03/
END:VEVENT
END:VCALENDAR