BEGIN:VCALENDAR
VERSION:2.0
CALSCALE:GREGORIAN
PRODID:-//WordPress//RSVPMaker//EN
METHOD:REQUEST
BEGIN:VEVENT
DTSTAMP:20260425T004938Z
UID:192FC044E74DFFEA144F9AC5DC9F3395@rsvpmaker.com
SEQUENCE:0
STATUS:CONFIRMED
DTSTART:20161024T160000Z
DTEND:20161024T170000Z
LOCATION:See\: https\://www.uupsbu.org/rsvpmaker/re-openpre-retirement
 -workshop-change-to-location-to-accommodate-more-members-2016-10-24/
SUMMARY:*Re-open*Pre-Retirement Workshop-Change to location to accommo
 date more members
DESCRIPTION:Event info\: https\://www.uupsbu.org/rsvpmaker/re-openpre-
 retirement-workshop-change-to-location-to-accommodate-more-members-201
 6-10-24/
END:VEVENT
END:VCALENDAR