BEGIN:VCALENDAR
VERSION:2.0
CALSCALE:GREGORIAN
PRODID:-//WordPress//RSVPMaker//EN
METHOD:REQUEST
BEGIN:VEVENT
DTSTAMP:20260423T233548Z
UID:2CD4E8A2CE081C3D7C32C3CDE4312EF7@rsvpmaker.com
SEQUENCE:0
STATUS:CONFIRMED
DTSTART:20180717T160000Z
DTEND:20180717T170000Z
LOCATION:See\: https\://www.uupsbu.org/rsvpmaker/reading-group-2018-07
 -17/
SUMMARY:UUP Reading Group
DESCRIPTION:Event info\: https\://www.uupsbu.org/rsvpmaker/reading-gro
 up-2018-07-17/
END:VEVENT
END:VCALENDAR