BEGIN:VCALENDAR
VERSION:2.0
CALSCALE:GREGORIAN
PRODID:-//WordPress//RSVPMaker//EN
METHOD:REQUEST
BEGIN:VEVENT
DTSTAMP:20260425T104947Z
UID:00430C0C1FAE276C9713AB5F21167882@rsvpmaker.com
SEQUENCE:0
STATUS:CONFIRMED
DTSTART:20240426T160000Z
DTEND:20240426T170000Z
LOCATION:See\: https\://www.uupsbu.org/rsvpmaker/roth-regatta/
SUMMARY:Roth Regatta
DESCRIPTION:Event info\: https\://www.uupsbu.org/rsvpmaker/roth-regatt
 a/
END:VEVENT
END:VCALENDAR