BEGIN:VCALENDAR
VERSION:2.0
CALSCALE:GREGORIAN
PRODID:-//WordPress//RSVPMaker//EN
METHOD:REQUEST
BEGIN:VEVENT
DTSTAMP:20260424T140538Z
UID:E2A2DCC36A08A345332C751B2F2E476C@rsvpmaker.com
SEQUENCE:0
STATUS:CONFIRMED
DTSTART:20170524T160000Z
DTEND:20170524T170000Z
LOCATION:See\: https\://www.uupsbu.org/rsvpmaker/shrink-your-body-the-
 holistic-way-2017-05-24/
SUMMARY:Shrink Your Body - the Holistic Way
DESCRIPTION:Event info\: https\://www.uupsbu.org/rsvpmaker/shrink-your
 -body-the-holistic-way-2017-05-24/
END:VEVENT
END:VCALENDAR