BEGIN:VCALENDAR
VERSION:2.0
CALSCALE:GREGORIAN
PRODID:-//WordPress//RSVPMaker//EN
METHOD:REQUEST
BEGIN:VEVENT
DTSTAMP:20260424T185100Z
UID:82F2B308C3B01637C607CE05F52A2FED@rsvpmaker.com
SEQUENCE:0
STATUS:CONFIRMED
DTSTART:20170216T170000Z
DTEND:20170216T180000Z
LOCATION:See\: https\://www.uupsbu.org/rsvpmaker/special-meeting-uup-m
 atters-of-interest-2017-02-16/
SUMMARY:Special Meeting - UUP Matters of Interest
DESCRIPTION:Event info\: https\://www.uupsbu.org/rsvpmaker/special-mee
 ting-uup-matters-of-interest-2017-02-16/
END:VEVENT
END:VCALENDAR