BEGIN:VCALENDAR
VERSION:2.0
CALSCALE:GREGORIAN
PRODID:-//WordPress//RSVPMaker//EN
METHOD:REQUEST
BEGIN:VEVENT
DTSTAMP:20260424T150233Z
UID:06997F04A7DB92466A2BAA6EBC8B872D@rsvpmaker.com
SEQUENCE:0
STATUS:CONFIRMED
DTSTART:20170412T113000Z
DTEND:20170412T123000Z
LOCATION:See\: https\://www.uupsbu.org/rsvpmaker/special-membership-me
 eting-with-statewide-uup-president-fred-kowal-2017-04-12/
SUMMARY:Special Membership Meeting with Statewide UUP President, Fred 
 Kowal
DESCRIPTION:Event info\: https\://www.uupsbu.org/rsvpmaker/special-mem
 bership-meeting-with-statewide-uup-president-fred-kowal-2017-04-12/
END:VEVENT
END:VCALENDAR