BEGIN:VCALENDAR
VERSION:2.0
CALSCALE:GREGORIAN
PRODID:-//WordPress//RSVPMaker//EN
METHOD:REQUEST
BEGIN:VEVENT
DTSTAMP:20260423T175931Z
UID:2A9D121CD9C3A1832BB6D2CC6BD7A8A7@rsvpmaker.com
SEQUENCE:0
STATUS:CONFIRMED
DTSTART:20180509T160000Z
DTEND:20180509T170000Z
LOCATION:See\: https\://www.uupsbu.org/rsvpmaker/spring-fling-general-
 membership-meeting-2018-05-09/
SUMMARY:Spring Fling - General Membership Meeting
DESCRIPTION:Event info\: https\://www.uupsbu.org/rsvpmaker/spring-flin
 g-general-membership-meeting-2018-05-09/
END:VEVENT
END:VCALENDAR