BEGIN:VCALENDAR
VERSION:2.0
CALSCALE:GREGORIAN
PRODID:-//WordPress//RSVPMaker//EN
METHOD:REQUEST
BEGIN:VEVENT
DTSTAMP:20260424T134851Z
UID:3435C378BB76D4357324DD7E69F3CD18@rsvpmaker.com
SEQUENCE:0
STATUS:CONFIRMED
DTSTART:20170510T160000Z
DTEND:20170510T170000Z
LOCATION:See\: https\://www.uupsbu.org/rsvpmaker/spring-fling-membersh
 ip-meeting-2017-05-10/
SUMMARY:Spring Fling - Membership Meeting
DESCRIPTION:Event info\: https\://www.uupsbu.org/rsvpmaker/spring-flin
 g-membership-meeting-2017-05-10/
END:VEVENT
END:VCALENDAR