BEGIN:VCALENDAR
VERSION:2.0
CALSCALE:GREGORIAN
PRODID:-//WordPress//RSVPMaker//EN
METHOD:REQUEST
BEGIN:VEVENT
DTSTAMP:20260424T034855Z
UID:40C48DAB939A482F04DCECDE07E27DE6@rsvpmaker.com
SEQUENCE:0
STATUS:CONFIRMED
DTSTART:20181003T164000Z
DTEND:20181003T174000Z
LOCATION:See\: https\://www.uupsbu.org/rsvpmaker/state-of-university-2
 018-10-03/
SUMMARY:State of University
DESCRIPTION:Event info\: https\://www.uupsbu.org/rsvpmaker/state-of-un
 iversity-2018-10-03/
END:VEVENT
END:VCALENDAR