BEGIN:VCALENDAR
VERSION:2.0
CALSCALE:GREGORIAN
PRODID:-//WordPress//RSVPMaker//EN
METHOD:REQUEST
BEGIN:VEVENT
DTSTAMP:20260424T121617Z
UID:795C7A7A5EC6B460EC00C5841019B9E9@rsvpmaker.com
SEQUENCE:0
STATUS:CONFIRMED
DTSTART:20170621T160000Z
DTEND:20170621T170000Z
LOCATION:See\: https\://www.uupsbu.org/rsvpmaker/stress-reduction-and-
 wellness-2017-06-21/
SUMMARY:Stress Reduction and Wellness
DESCRIPTION:Event info\: https\://www.uupsbu.org/rsvpmaker/stress-redu
 ction-and-wellness-2017-06-21/
END:VEVENT
END:VCALENDAR