BEGIN:VCALENDAR
VERSION:2.0
CALSCALE:GREGORIAN
PRODID:-//WordPress//RSVPMaker//EN
METHOD:REQUEST
BEGIN:VEVENT
DTSTAMP:20260426T013231Z
UID:760ABE2F7EA403A5C8AC329F72E4D42E@rsvpmaker.com
SEQUENCE:0
STATUS:CONFIRMED
DTSTART:20230719T210000Z
DTEND:20230719T223000Z
LOCATION:See\: https\://www.uupsbu.org/rsvpmaker/student-debt-clinic-m
 embers-only-10/
SUMMARY:Student Debt Clinic (Members Only)
DESCRIPTION:Event info\: https\://www.uupsbu.org/rsvpmaker/student-deb
 t-clinic-members-only-10/
END:VEVENT
END:VCALENDAR