BEGIN:VCALENDAR
VERSION:2.0
CALSCALE:GREGORIAN
PRODID:-//WordPress//RSVPMaker//EN
METHOD:REQUEST
BEGIN:VEVENT
DTSTAMP:20260426T025835Z
UID:3D0236A18121EC86EFF612E3B26BF7B9@rsvpmaker.com
SEQUENCE:0
STATUS:CONFIRMED
DTSTART:20230607T153000Z
DTEND:20230607T170000Z
LOCATION:See\: https\://www.uupsbu.org/rsvpmaker/student-debt-clinic-m
 embers-only-7/
SUMMARY:Student Debt Clinic (Members Only)
DESCRIPTION:Event info\: https\://www.uupsbu.org/rsvpmaker/student-deb
 t-clinic-members-only-7/
END:VEVENT
END:VCALENDAR