BEGIN:VCALENDAR
VERSION:2.0
CALSCALE:GREGORIAN
PRODID:-//WordPress//RSVPMaker//EN
METHOD:REQUEST
BEGIN:VEVENT
DTSTAMP:20260426T025845Z
UID:64697505AB8ADD3AA07F761321D06014@rsvpmaker.com
SEQUENCE:0
STATUS:CONFIRMED
DTSTART:20230621T210000Z
DTEND:20230621T223000Z
LOCATION:See\: https\://www.uupsbu.org/rsvpmaker/student-debt-clinic-m
 embers-only-8/
SUMMARY:Student Debt Clinic (Members Only)
DESCRIPTION:Event info\: https\://www.uupsbu.org/rsvpmaker/student-deb
 t-clinic-members-only-8/
END:VEVENT
END:VCALENDAR