BEGIN:VCALENDAR
VERSION:2.0
CALSCALE:GREGORIAN
PRODID:-//WordPress//RSVPMaker//EN
METHOD:REQUEST
BEGIN:VEVENT
DTSTAMP:20260426T012929Z
UID:1E44FDF9C44D7328FECC02D677ED704D@rsvpmaker.com
SEQUENCE:0
STATUS:CONFIRMED
DTSTART:20230705T153000Z
DTEND:20230705T170000Z
LOCATION:See\: https\://www.uupsbu.org/rsvpmaker/student-debt-clinic-m
 embers-only-9/
SUMMARY:Student Debt Clinic (Members Only)
DESCRIPTION:Event info\: https\://www.uupsbu.org/rsvpmaker/student-deb
 t-clinic-members-only-9/
END:VEVENT
END:VCALENDAR