BEGIN:VCALENDAR
VERSION:2.0
CALSCALE:GREGORIAN
PRODID:-//WordPress//RSVPMaker//EN
METHOD:REQUEST
BEGIN:VEVENT
DTSTAMP:20260424T105738Z
UID:F4552671F8909587CF485EA990207F3B@rsvpmaker.com
SEQUENCE:0
STATUS:CONFIRMED
DTSTART:20170713T160000Z
DTEND:20170713T170000Z
LOCATION:See\: https\://www.uupsbu.org/rsvpmaker/summer-retreat-part-a
 -2017-07-13/
SUMMARY:Summer Retreat - Part A
DESCRIPTION:Event info\: https\://www.uupsbu.org/rsvpmaker/summer-retr
 eat-part-a-2017-07-13/
END:VEVENT
END:VCALENDAR