BEGIN:VCALENDAR
VERSION:2.0
CALSCALE:GREGORIAN
PRODID:-//WordPress//RSVPMaker//EN
METHOD:REQUEST
BEGIN:VEVENT
DTSTAMP:20260424T110327Z
UID:362E80D4DF43B03AE6D3F8540CD63626@rsvpmaker.com
SEQUENCE:0
STATUS:CONFIRMED
DTSTART:20170713T160000Z
DTEND:20170713T170000Z
LOCATION:See\: https\://www.uupsbu.org/rsvpmaker/summer-retreat-part-b
 -2017-07-13/
SUMMARY:Summer Retreat - Part B
DESCRIPTION:Event info\: https\://www.uupsbu.org/rsvpmaker/summer-retr
 eat-part-b-2017-07-13/
END:VEVENT
END:VCALENDAR