BEGIN:VCALENDAR
VERSION:2.0
CALSCALE:GREGORIAN
PRODID:-//WordPress//RSVPMaker//EN
METHOD:REQUEST
BEGIN:VEVENT
DTSTAMP:20260425T185111Z
UID:AD13A2A07CA4B7642959DC0C4C740AB6@rsvpmaker.com
SEQUENCE:0
STATUS:CONFIRMED
DTSTART:20151110T170000Z
DTEND:20151110T180000Z
LOCATION:See\: https\://www.uupsbu.org/rsvpmaker/test-event-2015-11-10
 /
SUMMARY:Test event
DESCRIPTION:Event info\: https\://www.uupsbu.org/rsvpmaker/test-event-
 2015-11-10/
END:VEVENT
END:VCALENDAR