BEGIN:VCALENDAR
VERSION:2.0
CALSCALE:GREGORIAN
PRODID:-//WordPress//RSVPMaker//EN
METHOD:REQUEST
BEGIN:VEVENT
DTSTAMP:20260425T184909Z
UID:8E98D81F8217304975CCB23337BB5761@rsvpmaker.com
SEQUENCE:0
STATUS:CONFIRMED
DTSTART:20151106T000000Z
DTEND:20151106T010000Z
LOCATION:See\: https\://www.uupsbu.org/rsvpmaker/testing-event-2015-11
 -5/
SUMMARY:Testing Event
DESCRIPTION:Event info\: https\://www.uupsbu.org/rsvpmaker/testing-eve
 nt-2015-11-5/
END:VEVENT
END:VCALENDAR