BEGIN:VCALENDAR
VERSION:2.0
CALSCALE:GREGORIAN
PRODID:-//WordPress//RSVPMaker//EN
METHOD:REQUEST
BEGIN:VEVENT
DTSTAMP:20260424T231105Z
UID:44C4C17332CACE2124A1A836D9FC4B6F@rsvpmaker.com
SEQUENCE:0
STATUS:CONFIRMED
DTSTART:20161124T170000Z
DTEND:20161124T180000Z
LOCATION:See\: https\://www.uupsbu.org/rsvpmaker/thanksgiving-2016-11-
 24/
SUMMARY:Thanksgiving
DESCRIPTION:Event info\: https\://www.uupsbu.org/rsvpmaker/thanksgivin
 g-2016-11-24/
END:VEVENT
END:VCALENDAR