BEGIN:VCALENDAR
VERSION:2.0
CALSCALE:GREGORIAN
PRODID:-//WordPress//RSVPMaker//EN
METHOD:REQUEST
BEGIN:VEVENT
DTSTAMP:20260424T232837Z
UID:752356CE55E0B436A9027914CB7E18A7@rsvpmaker.com
SEQUENCE:0
STATUS:CONFIRMED
DTSTART:20241115T220000Z
DTEND:20241116T003000Z
LOCATION:See\: https\://www.uupsbu.org/rsvpmaker/the-3rd-annual-fast-f
 und-gift-basket-fundraiser-in-person-only/
SUMMARY:The 3rd Annual FAST Fund Gift Basket Fundraiser (In-person onl
 y)
DESCRIPTION:Event info\: https\://www.uupsbu.org/rsvpmaker/the-3rd-ann
 ual-fast-fund-gift-basket-fundraiser-in-person-only/
END:VEVENT
END:VCALENDAR