BEGIN:VCALENDAR
VERSION:2.0
CALSCALE:GREGORIAN
PRODID:-//WordPress//RSVPMaker//EN
METHOD:REQUEST
BEGIN:VEVENT
DTSTAMP:20260423T234805Z
UID:4E9CEC1F583056459111D63E24F3B8EF@rsvpmaker.com
SEQUENCE:0
STATUS:CONFIRMED
DTSTART:20180327T160000Z
DTEND:20180327T170000Z
LOCATION:See\: https\://www.uupsbu.org/rsvpmaker/the-womens-concern-co
 mmittee-workshop-2018-03-27/
SUMMARY:The Women's Concern Committee Workshop
DESCRIPTION:Event info\: https\://www.uupsbu.org/rsvpmaker/the-womens-
 concern-committee-workshop-2018-03-27/
END:VEVENT
END:VCALENDAR