BEGIN:VCALENDAR
VERSION:2.0
CALSCALE:GREGORIAN
PRODID:-//WordPress//RSVPMaker//EN
METHOD:REQUEST
BEGIN:VEVENT
DTSTAMP:20260423T234642Z
UID:3DD9424294B0292B6E89EA2BBA2E1144@rsvpmaker.com
SEQUENCE:0
STATUS:CONFIRMED
DTSTART:20180730T160000Z
DTEND:20180730T170000Z
LOCATION:See\: https\://www.uupsbu.org/rsvpmaker/tiaa-financial-essent
 ial-workshop-2018-07-30/
SUMMARY:TIAA Financial Essential Workshop
DESCRIPTION:Event info\: https\://www.uupsbu.org/rsvpmaker/tiaa-financ
 ial-essential-workshop-2018-07-30/
END:VEVENT
END:VCALENDAR