BEGIN:VCALENDAR
VERSION:2.0
CALSCALE:GREGORIAN
PRODID:-//WordPress//RSVPMaker//EN
METHOD:REQUEST
BEGIN:VEVENT
DTSTAMP:20260425T142223Z
UID:750263DBB2FB8547BDD810EE11A08C7A@rsvpmaker.com
SEQUENCE:0
STATUS:CONFIRMED
DTSTART:20240212T180000Z
DTEND:20240212T190000Z
LOCATION:See\: https\://www.uupsbu.org/rsvpmaker/town-hall-salary-tren
 ds-and-inequality-at-sbu/
SUMMARY:Town Hall: Salary trends and inequality at SBU
DESCRIPTION:Event info\: https\://www.uupsbu.org/rsvpmaker/town-hall-s
 alary-trends-and-inequality-at-sbu/
END:VEVENT
END:VCALENDAR