BEGIN:VCALENDAR
VERSION:2.0
CALSCALE:GREGORIAN
PRODID:-//WordPress//RSVPMaker//EN
METHOD:REQUEST
BEGIN:VEVENT
DTSTAMP:20260424T033859Z
UID:A8240CB8235E9C493A0C30607586166C@rsvpmaker.com
SEQUENCE:0
STATUS:CONFIRMED
DTSTART:20171205T170000Z
DTEND:20171205T180000Z
LOCATION:See\: https\://www.uupsbu.org/rsvpmaker/union-movement-2017-1
 2-05/
SUMMARY:Union Movement
DESCRIPTION:Event info\: https\://www.uupsbu.org/rsvpmaker/union-movem
 ent-2017-12-05/
END:VEVENT
END:VCALENDAR