BEGIN:VCALENDAR
VERSION:2.0
CALSCALE:GREGORIAN
PRODID:-//WordPress//RSVPMaker//EN
METHOD:REQUEST
BEGIN:VEVENT
DTSTAMP:20260424T011021Z
UID:FB508EF074EE78A0E58C68BE06D8A2EB@rsvpmaker.com
SEQUENCE:0
STATUS:CONFIRMED
DTSTART:20180208T170000Z
DTEND:20180208T180000Z
LOCATION:See\: https\://www.uupsbu.org/rsvpmaker/uup-2018-workshop-1-u
 nion-history-101-2018-02-08/
SUMMARY:UUP 2018 Workshop #1 (Union History 101)
DESCRIPTION:Event info\: https\://www.uupsbu.org/rsvpmaker/uup-2018-wo
 rkshop-1-union-history-101-2018-02-08/
END:VEVENT
END:VCALENDAR