BEGIN:VCALENDAR
VERSION:2.0
CALSCALE:GREGORIAN
PRODID:-//WordPress//RSVPMaker//EN
METHOD:REQUEST
BEGIN:VEVENT
DTSTAMP:20260425T122214Z
UID:2051BD70FC110A2208BDBD4A743E7F79@rsvpmaker.com
SEQUENCE:0
STATUS:CONFIRMED
DTSTART:20240416T160000Z
DTEND:20240416T170000Z
LOCATION:See\: https\://www.uupsbu.org/rsvpmaker/uup-april-2024-pre-re
 tirement-workshops/
SUMMARY:UUP- April 2024 Pre-Retirement Workshops Part 1
DESCRIPTION:Event info\: https\://www.uupsbu.org/rsvpmaker/uup-april-2
 024-pre-retirement-workshops/
END:VEVENT
END:VCALENDAR