BEGIN:VCALENDAR
VERSION:2.0
CALSCALE:GREGORIAN
PRODID:-//WordPress//RSVPMaker//EN
METHOD:REQUEST
BEGIN:VEVENT
DTSTAMP:20260423T223621Z
UID:E8D92F99EDD25E2CEF48ECA48320A1A5@rsvpmaker.com
SEQUENCE:0
STATUS:CONFIRMED
DTSTART:20180413T140000Z
DTEND:20180413T150000Z
LOCATION:See\: https\://www.uupsbu.org/rsvpmaker/uup-benefits-day-2018
 -04-13/
SUMMARY:UUP BENEFITS DAY
DESCRIPTION:Event info\: https\://www.uupsbu.org/rsvpmaker/uup-benefit
 s-day-2018-04-13/
END:VEVENT
END:VCALENDAR