BEGIN:VCALENDAR
VERSION:2.0
CALSCALE:GREGORIAN
PRODID:-//WordPress//RSVPMaker//EN
METHOD:REQUEST
BEGIN:VEVENT
DTSTAMP:20260425T141529Z
UID:564127C03CAAB942E503EE6F810F54FD@rsvpmaker.com
SEQUENCE:0
STATUS:CONFIRMED
DTSTART:20240312T160000Z
DTEND:20240312T170000Z
LOCATION:See\: https\://www.uupsbu.org/rsvpmaker/uup-benefits-your-pot
 -of-gold-uups-know-your-negotiated-benefits-2/
SUMMARY:“UUP Benefits Your Pot of Gold” UUP’s Know Your Negotiat
 ed Benefits
DESCRIPTION:Event info\: https\://www.uupsbu.org/rsvpmaker/uup-benefit
 s-your-pot-of-gold-uups-know-your-negotiated-benefits-2/
END:VEVENT
END:VCALENDAR