BEGIN:VCALENDAR
VERSION:2.0
CALSCALE:GREGORIAN
PRODID:-//WordPress//RSVPMaker//EN
METHOD:REQUEST
BEGIN:VEVENT
DTSTAMP:20260424T051131Z
UID:21186D7B1482412AB14F0332B8AEE119@rsvpmaker.com
SEQUENCE:0
STATUS:CONFIRMED
DTSTART:20251202T170000Z
DTEND:20251202T180000Z
LOCATION:See\: https\://www.uupsbu.org/rsvpmaker/uup-dei-forum/
SUMMARY:UUP DEI Forum
DESCRIPTION:Event info\: https\://www.uupsbu.org/rsvpmaker/uup-dei-for
 um/
END:VEVENT
END:VCALENDAR