BEGIN:VCALENDAR
VERSION:2.0
CALSCALE:GREGORIAN
PRODID:-//WordPress//RSVPMaker//EN
METHOD:REQUEST
BEGIN:VEVENT
DTSTAMP:20260425T222329Z
UID:CF98F1617165BF975B4DD57AB90269CF@rsvpmaker.com
SEQUENCE:0
STATUS:CONFIRMED
DTSTART:20231014T160000Z
DTEND:20231014T170000Z
LOCATION:See\: https\://www.uupsbu.org/rsvpmaker/uup-delegate-assembly
 -2/
SUMMARY:UUP Delegate Assembly
DESCRIPTION:Event info\: https\://www.uupsbu.org/rsvpmaker/uup-delegat
 e-assembly-2/
END:VEVENT
END:VCALENDAR