BEGIN:VCALENDAR
VERSION:2.0
CALSCALE:GREGORIAN
PRODID:-//WordPress//RSVPMaker//EN
METHOD:REQUEST
BEGIN:VEVENT
DTSTAMP:20260423T234728Z
UID:A4939072217B46203C4F5764CB4DAC40@rsvpmaker.com
SEQUENCE:0
STATUS:CONFIRMED
DTSTART:20260326T200000Z
DTEND:20260326T220000Z
LOCATION:See\: https\://www.uupsbu.org/rsvpmaker/uup-happy-hour-2/
SUMMARY:UUP Happy Hour
DESCRIPTION:Event info\: https\://www.uupsbu.org/rsvpmaker/uup-happy-h
 our-2/
END:VEVENT
END:VCALENDAR