BEGIN:VCALENDAR
VERSION:2.0
CALSCALE:GREGORIAN
PRODID:-//WordPress//RSVPMaker//EN
METHOD:REQUEST
BEGIN:VEVENT
DTSTAMP:20260425T141606Z
UID:1A07BCC79F21590B3ED2622D5807BDD0@rsvpmaker.com
SEQUENCE:0
STATUS:CONFIRMED
DTSTART:20240221T170000Z
DTEND:20240221T180000Z
LOCATION:See\: https\://www.uupsbu.org/rsvpmaker/uup-membership-meetin
 g/
SUMMARY:UUP Membership Meeting
DESCRIPTION:Event info\: https\://www.uupsbu.org/rsvpmaker/uup-members
 hip-meeting/
END:VEVENT
END:VCALENDAR