BEGIN:VCALENDAR
VERSION:2.0
CALSCALE:GREGORIAN
PRODID:-//WordPress//RSVPMaker//EN
METHOD:REQUEST
BEGIN:VEVENT
DTSTAMP:20260426T014213Z
UID:DEA184826614D3F4C608731389ED0C74@rsvpmaker.com
SEQUENCE:0
STATUS:CONFIRMED
DTSTART:20230727T160000Z
DTEND:20230727T170000Z
LOCATION:See\: https\://www.uupsbu.org/rsvpmaker/uup-professional-coun
 cil-meeting/
SUMMARY:UUP Professional Council Meeting
DESCRIPTION:Event info\: https\://www.uupsbu.org/rsvpmaker/uup-profess
 ional-council-meeting/
END:VEVENT
END:VCALENDAR