BEGIN:VCALENDAR
VERSION:2.0
CALSCALE:GREGORIAN
PRODID:-//WordPress//RSVPMaker//EN
METHOD:REQUEST
BEGIN:VEVENT
DTSTAMP:20260424T123726Z
UID:C2626D850C80EA07E7511BBAE4C76F4B@rsvpmaker.com
SEQUENCE:0
STATUS:CONFIRMED
DTSTART:20170606T220000Z
DTEND:20170606T230000Z
LOCATION:See\: https\://www.uupsbu.org/rsvpmaker/uup-professionals-on-
 long-island-dinner-meeting-2017-06-06/
SUMMARY:UUP Professionals on Long Island Dinner Meeting
DESCRIPTION:Event info\: https\://www.uupsbu.org/rsvpmaker/uup-profess
 ionals-on-long-island-dinner-meeting-2017-06-06/
END:VEVENT
END:VCALENDAR