BEGIN:VCALENDAR
VERSION:2.0
CALSCALE:GREGORIAN
PRODID:-//WordPress//RSVPMaker//EN
METHOD:REQUEST
BEGIN:VEVENT
DTSTAMP:20260423T222420Z
UID:4C144C47ECBA6F8318128703CA9E2601@rsvpmaker.com
SEQUENCE:0
STATUS:CONFIRMED
DTSTART:20180619T160000Z
DTEND:20180619T170000Z
LOCATION:See\: https\://www.uupsbu.org/rsvpmaker/uup-reading-group-201
 8-06-19/
SUMMARY:UUP Reading Group
DESCRIPTION:Event info\: https\://www.uupsbu.org/rsvpmaker/uup-reading
 -group-2018-06-19/
END:VEVENT
END:VCALENDAR