BEGIN:VCALENDAR
VERSION:2.0
CALSCALE:GREGORIAN
PRODID:-//WordPress//RSVPMaker//EN
METHOD:REQUEST
BEGIN:VEVENT
DTSTAMP:20260423T234728Z
UID:194CF6C2DE8E00C05FCF16C498ADC7BF@rsvpmaker.com
SEQUENCE:0
STATUS:CONFIRMED
DTSTART:20180731T160000Z
DTEND:20180731T170000Z
LOCATION:See\: https\://www.uupsbu.org/rsvpmaker/uup-reading-group-201
 8-07-31/
SUMMARY:UUP Reading Group
DESCRIPTION:Event info\: https\://www.uupsbu.org/rsvpmaker/uup-reading
 -group-2018-07-31/
END:VEVENT
END:VCALENDAR