BEGIN:VCALENDAR
VERSION:2.0
CALSCALE:GREGORIAN
PRODID:-//WordPress//RSVPMaker//EN
METHOD:REQUEST
BEGIN:VEVENT
DTSTAMP:20260424T010912Z
UID:A03FA30821986DFF10FC66647C84C9C3@rsvpmaker.com
SEQUENCE:0
STATUS:CONFIRMED
DTSTART:20180821T160000Z
DTEND:20180821T170000Z
LOCATION:See\: https\://www.uupsbu.org/rsvpmaker/uup-reading-group-201
 8-08-21/
SUMMARY:UUP Reading Group
DESCRIPTION:Event info\: https\://www.uupsbu.org/rsvpmaker/uup-reading
 -group-2018-08-21/
END:VEVENT
END:VCALENDAR