BEGIN:VCALENDAR
VERSION:2.0
CALSCALE:GREGORIAN
PRODID:-//WordPress//RSVPMaker//EN
METHOD:REQUEST
BEGIN:VEVENT
DTSTAMP:20260426T025808Z
UID:25702D4234F4C7DC542ADDE64426A7CA@rsvpmaker.com
SEQUENCE:0
STATUS:CONFIRMED
DTSTART:20230628T160000Z
DTEND:20230628T170000Z
LOCATION:See\: https\://www.uupsbu.org/rsvpmaker/uup-to-host-pride-for
 um-june-28/
SUMMARY:UUP to host Pride forum June 28
DESCRIPTION:Event info\: https\://www.uupsbu.org/rsvpmaker/uup-to-host
 -pride-forum-june-28/
END:VEVENT
END:VCALENDAR