BEGIN:VCALENDAR
VERSION:2.0
CALSCALE:GREGORIAN
PRODID:-//WordPress//RSVPMaker//EN
METHOD:REQUEST
BEGIN:VEVENT
DTSTAMP:20260425T103855Z
UID:9D00670C8E26B15FDD085A04A256683C@rsvpmaker.com
SEQUENCE:0
STATUS:CONFIRMED
DTSTART:20240507T170000Z
DTEND:20240507T190000Z
LOCATION:See\: https\://www.uupsbu.org/rsvpmaker/uup-townhall/
SUMMARY:UUP Town Hall
DESCRIPTION:Event info\: https\://www.uupsbu.org/rsvpmaker/uup-townhal
 l/
END:VEVENT
END:VCALENDAR