BEGIN:VCALENDAR
VERSION:2.0
CALSCALE:GREGORIAN
PRODID:-//WordPress//RSVPMaker//EN
METHOD:REQUEST
BEGIN:VEVENT
DTSTAMP:20260424T121739Z
UID:528AECDF9CF67E516DFD5EAA675CCFD9@rsvpmaker.com
SEQUENCE:0
STATUS:CONFIRMED
DTSTART:20190430T160000Z
DTEND:20190430T170000Z
LOCATION:See\: https\://www.uupsbu.org/rsvpmaker/uup-training-membersh
 ip-to-member-conversations-2019-4-30/
SUMMARY:UUP Training: Membership to Member Conversations
DESCRIPTION:Event info\: https\://www.uupsbu.org/rsvpmaker/uup-trainin
 g-membership-to-member-conversations-2019-4-30/
END:VEVENT
END:VCALENDAR