BEGIN:VCALENDAR
VERSION:2.0
CALSCALE:GREGORIAN
PRODID:-//WordPress//RSVPMaker//EN
METHOD:REQUEST
BEGIN:VEVENT
DTSTAMP:20260425T152134Z
UID:51D92BE1C60D1DB1D2E5E7A07DA55B26@rsvpmaker.com
SEQUENCE:0
STATUS:CONFIRMED
DTSTART:20160131T170000Z
DTEND:20160131T180000Z
LOCATION:See\: https\://www.uupsbu.org/rsvpmaker/uup-winter-delegate-a
 ssembly-2016-1-31/
SUMMARY:UUP Winter Delegate Assembly
DESCRIPTION:Event info\: https\://www.uupsbu.org/rsvpmaker/uup-winter-
 delegate-assembly-2016-1-31/
END:VEVENT
END:VCALENDAR